Package: Rbowtie2 Version: 2.16.0 Command: /home/biocbuild/bbs-3.22-bioc/R/bin/R CMD build --keep-empty-dirs --no-resave-data --md5 Rbowtie2 StartedAt: 2025-11-11 19:38:31 -0500 (Tue, 11 Nov 2025) EndedAt: 2025-11-11 19:43:27 -0500 (Tue, 11 Nov 2025) EllapsedTime: 296.3 seconds RetCode: 0 Status: OK PackageFile: Rbowtie2_2.16.0.tar.gz PackageFileSize: 1.728 MiB