Package: Rbowtie2 Version: 2.14.0 Command: /home/biocbuild/bbs-3.21-bioc/R/bin/R CMD INSTALL Rbowtie2 StartedAt: 2025-10-15 15:15:41 -0400 (Wed, 15 Oct 2025) EndedAt: 2025-10-15 15:20:40 -0400 (Wed, 15 Oct 2025) EllapsedTime: 298.7 seconds RetCode: 0 Status: OK