Package: Rbowtie2 Version: 2.16.0 Command: /Library/Frameworks/R.framework/Resources/bin/R CMD INSTALL Rbowtie2 StartedAt: 2025-10-30 15:17:30 -0400 (Thu, 30 Oct 2025) EndedAt: 2025-10-30 15:21:40 -0400 (Thu, 30 Oct 2025) EllapsedTime: 250.4 seconds RetCode: 0 Status: OK