Package: Rbowtie2 Version: 2.14.0 Command: /home/biocbuild/R/R/bin/R CMD INSTALL Rbowtie2 StartedAt: 2025-10-02 20:29:10 -0000 (Thu, 02 Oct 2025) EndedAt: 2025-10-02 20:37:49 -0000 (Thu, 02 Oct 2025) EllapsedTime: 519.0 seconds RetCode: 0 Status: OK