Package: Rbowtie2 Version: 2.14.0 Command: rm -rf Rbowtie2.buildbin-libdir && mkdir Rbowtie2.buildbin-libdir && /Users/biocbuild/BBS/utils/build-universal.sh Rbowtie2_2.14.0.tar.gz /Library/Frameworks/R.framework/Resources/bin/R Rbowtie2.buildbin-libdir StartedAt: 2025-10-15 19:58:47 -0400 (Wed, 15 Oct 2025) EndedAt: 2025-10-15 20:02:47 -0400 (Wed, 15 Oct 2025) EllapsedTime: 240.5 seconds RetCode: 0 Status: OK PackageFile: Rbowtie2_2.14.0.tgz PackageFileSize: 1.843 MiB