Package: Rbowtie Version: 1.50.0 Command: /home/biocbuild/bbs-3.22-bioc/R/bin/R CMD build --keep-empty-dirs --no-resave-data --md5 Rbowtie StartedAt: 2025-11-11 19:38:28 -0500 (Tue, 11 Nov 2025) EndedAt: 2025-11-11 19:39:59 -0500 (Tue, 11 Nov 2025) EllapsedTime: 91.1 seconds RetCode: 0 Status: OK PackageFile: Rbowtie_1.50.0.tar.gz PackageFileSize: 906.1 KiB