Package: Rbowtie Version: 1.50.0 Command: /Library/Frameworks/R.framework/Resources/bin/R CMD INSTALL Rbowtie StartedAt: 2025-11-10 15:02:53 -0500 (Mon, 10 Nov 2025) EndedAt: 2025-11-10 15:03:25 -0500 (Mon, 10 Nov 2025) EllapsedTime: 32.1 seconds RetCode: 0 Status: OK