Package: Rbowtie Version: 1.50.0 Command: /Library/Frameworks/R.framework/Resources/bin/R CMD build --keep-empty-dirs --no-resave-data Rbowtie StartedAt: 2025-11-10 17:27:42 -0500 (Mon, 10 Nov 2025) EndedAt: 2025-11-10 17:28:12 -0500 (Mon, 10 Nov 2025) EllapsedTime: 30.4 seconds RetCode: 0 Status: OK PackageFile: Rbowtie_1.50.0.tar.gz PackageFileSize: 4.917 MiB