Package: Rbowtie Version: 1.50.0 Command: rm -rf Rbowtie.buildbin-libdir && mkdir Rbowtie.buildbin-libdir && /Users/biocbuild/BBS/utils/build-universal.sh Rbowtie_1.50.0.tar.gz /Library/Frameworks/R.framework/Resources/bin/R Rbowtie.buildbin-libdir StartedAt: 2025-11-10 23:32:39 -0500 (Mon, 10 Nov 2025) EndedAt: 2025-11-10 23:33:05 -0500 (Mon, 10 Nov 2025) EllapsedTime: 26.6 seconds RetCode: 0 Status: OK PackageFile: Rbowtie_1.50.0.tgz PackageFileSize: 1.184 MiB