Package: Rbec Version: 1.18.0 Command: /Library/Frameworks/R.framework/Resources/bin/R CMD INSTALL Rbec StartedAt: 2025-11-10 15:27:50 -0500 (Mon, 10 Nov 2025) EndedAt: 2025-11-10 15:27:53 -0500 (Mon, 10 Nov 2025) EllapsedTime: 3.1 seconds RetCode: 1 Status: ERROR