Package: Rbec Version: 1.18.0 Command: /Library/Frameworks/R.framework/Resources/bin/R CMD build --keep-empty-dirs --no-resave-data Rbec StartedAt: 2025-11-10 17:27:27 -0500 (Mon, 10 Nov 2025) EndedAt: 2025-11-10 17:27:30 -0500 (Mon, 10 Nov 2025) EllapsedTime: 3.0 seconds RetCode: 1 Status: ERROR PackageFile: None PackageFileSize: NA