Package: RbcBook1 Version: 1.78.0 Command: /home/biocbuild/R/R/bin/R CMD INSTALL RbcBook1 StartedAt: 2025-11-13 21:18:42 -0000 (Thu, 13 Nov 2025) EndedAt: 2025-11-13 21:18:49 -0000 (Thu, 13 Nov 2025) EllapsedTime: 6.7 seconds RetCode: 0 Status: OK