Package: RbcBook1 Version: 1.78.0 Command: /home/biocbuild/R/R/bin/R CMD build --keep-empty-dirs --no-resave-data RbcBook1 StartedAt: 2025-11-14 04:26:58 -0000 (Fri, 14 Nov 2025) EndedAt: 2025-11-14 04:27:08 -0000 (Fri, 14 Nov 2025) EllapsedTime: 10.0 seconds RetCode: 0 Status: OK PackageFile: RbcBook1_1.78.0.tar.gz PackageFileSize: 6.41 MiB