Package: RbcBook1 Version: 1.78.0 Command: /home/biocbuild/bbs-3.22-bioc/R/bin/R CMD INSTALL RbcBook1 StartedAt: 2025-11-11 15:17:03 -0500 (Tue, 11 Nov 2025) EndedAt: 2025-11-11 15:17:08 -0500 (Tue, 11 Nov 2025) EllapsedTime: 4.6 seconds RetCode: 0 Status: OK