Package: RbcBook1 Version: 1.78.0 Command: /home/biocbuild/bbs-3.22-bioc/R/bin/R CMD check --install=check:RbcBook1.install-out.txt --library=/home/biocbuild/bbs-3.22-bioc/R/site-library --timings RbcBook1_1.78.0.tar.gz StartedAt: 2025-11-14 03:11:48 -0500 (Fri, 14 Nov 2025) EndedAt: 2025-11-14 03:12:17 -0500 (Fri, 14 Nov 2025) EllapsedTime: 29.0 seconds RetCode: 0 Status: WARNINGS CheckDir: RbcBook1.Rcheck Warnings: 1