Package: RbcBook1 Version: 1.76.0 Command: /home/biocbuild/bbs-3.21-bioc/R/bin/R CMD build --keep-empty-dirs --no-resave-data RbcBook1 StartedAt: 2025-10-08 19:20:55 -0400 (Wed, 08 Oct 2025) EndedAt: 2025-10-08 19:21:04 -0400 (Wed, 08 Oct 2025) EllapsedTime: 9.0 seconds RetCode: 0 Status: OK PackageFile: RbcBook1_1.76.0.tar.gz PackageFileSize: 6.412 MiB