Package: RbcBook1 Version: 1.76.0 Command: /home/biocbuild/R/R/bin/R CMD INSTALL RbcBook1 StartedAt: 2025-09-25 20:25:01 -0000 (Thu, 25 Sep 2025) EndedAt: 2025-09-25 20:25:08 -0000 (Thu, 25 Sep 2025) EllapsedTime: 7.4 seconds RetCode: 0 Status: OK