Package: RbcBook1 Version: 1.76.0 Command: /Library/Frameworks/R.framework/Resources/bin/R CMD INSTALL RbcBook1 StartedAt: 2025-10-06 15:35:27 -0400 (Mon, 06 Oct 2025) EndedAt: 2025-10-06 15:35:35 -0400 (Mon, 06 Oct 2025) EllapsedTime: 8.0 seconds RetCode: 0 Status: OK