Package: RbcBook1 Version: 1.76.0 Command: /Library/Frameworks/R.framework/Resources/bin/R CMD build --keep-empty-dirs --no-resave-data RbcBook1 StartedAt: 2025-10-07 07:40:08 -0400 (Tue, 07 Oct 2025) EndedAt: 2025-10-07 07:40:22 -0400 (Tue, 07 Oct 2025) EllapsedTime: 14.4 seconds RetCode: 0 Status: OK PackageFile: RbcBook1_1.76.0.tar.gz PackageFileSize: 6.412 MiB