Package: RbcBook1 Version: 1.76.0 Command: rm -rf RbcBook1.buildbin-libdir && mkdir RbcBook1.buildbin-libdir && /Users/biocbuild/BBS/utils/build-universal.sh RbcBook1_1.76.0.tar.gz /Library/Frameworks/R.framework/Resources/bin/R RbcBook1.buildbin-libdir StartedAt: 2025-10-08 22:28:31 -0400 (Wed, 08 Oct 2025) EndedAt: 2025-10-08 22:28:39 -0400 (Wed, 08 Oct 2025) EllapsedTime: 8.0 seconds RetCode: 0 Status: OK PackageFile: RbcBook1_1.76.0.tgz PackageFileSize: 6.449 MiB