Package: RbcBook1 Version: 1.76.0 Maintainer: Vince Carey MaintainerEmail: stvjc at channing.harvard.edu git_url: https://git.bioconductor.org/packages/RbcBook1 git_branch: RELEASE_3_21 git_last_commit: 5c9602a git_last_commit_date: 2025-04-15 09:39:11 -0400 (Tue, 15 Apr 2025)