Package: Rarr Version: 1.8.1 Command: /home/biocbuild/R/R/bin/R CMD build --keep-empty-dirs --no-resave-data Rarr StartedAt: 2025-10-14 03:50:21 -0000 (Tue, 14 Oct 2025) EndedAt: 2025-10-14 03:52:23 -0000 (Tue, 14 Oct 2025) EllapsedTime: 122.1 seconds RetCode: 0 Status: OK PackageFile: Rarr_1.8.1.tar.gz PackageFileSize: 1.403 MiB