Package: Rarr Version: 1.10.0 Command: /Library/Frameworks/R.framework/Resources/bin/R CMD INSTALL Rarr StartedAt: 2025-10-31 15:11:58 -0400 (Fri, 31 Oct 2025) EndedAt: 2025-10-31 15:12:18 -0400 (Fri, 31 Oct 2025) EllapsedTime: 20.1 seconds RetCode: 0 Status: OK