Package: Rarr Version: 1.10.0 Command: /Library/Frameworks/R.framework/Resources/bin/R CMD build --keep-empty-dirs --no-resave-data Rarr StartedAt: 2025-10-31 17:30:06 -0400 (Fri, 31 Oct 2025) EndedAt: 2025-10-31 17:30:45 -0400 (Fri, 31 Oct 2025) EllapsedTime: 39.4 seconds RetCode: 0 Status: OK PackageFile: Rarr_1.10.0.tar.gz PackageFileSize: 1.441 MiB