Package: Rarr Version: 1.10.0 Command: rm -rf Rarr.buildbin-libdir && mkdir Rarr.buildbin-libdir && /Users/biocbuild/BBS/utils/build-universal.sh Rarr_1.10.0.tar.gz /Library/Frameworks/R.framework/Resources/bin/R Rarr.buildbin-libdir StartedAt: 2025-10-31 23:19:29 -0400 (Fri, 31 Oct 2025) EndedAt: 2025-10-31 23:19:53 -0400 (Fri, 31 Oct 2025) EllapsedTime: 23.5 seconds RetCode: 0 Status: OK PackageFile: Rarr_1.10.0.tgz PackageFileSize: 1.434 MiB