Package: RareVariantVis Version: 2.38.0 Command: /home/biocbuild/R/R/bin/R CMD INSTALL RareVariantVis StartedAt: 2025-11-20 22:52:37 -0000 (Thu, 20 Nov 2025) EndedAt: 2025-11-20 22:53:38 -0000 (Thu, 20 Nov 2025) EllapsedTime: 60.9 seconds RetCode: 0 Status: OK