Package: RareVariantVis Version: 2.38.0 Command: /home/biocbuild/R/R/bin/R CMD build --keep-empty-dirs --no-resave-data RareVariantVis StartedAt: 2025-11-21 05:02:52 -0000 (Fri, 21 Nov 2025) EndedAt: 2025-11-21 05:03:53 -0000 (Fri, 21 Nov 2025) EllapsedTime: 61.0 seconds RetCode: 0 Status: OK PackageFile: RareVariantVis_2.38.0.tar.gz PackageFileSize: 2.751 MiB