Package: RareVariantVis Version: 2.38.0 Command: /home/biocbuild/bbs-3.22-bioc/R/bin/R CMD INSTALL RareVariantVis StartedAt: 2025-11-11 16:04:46 -0500 (Tue, 11 Nov 2025) EndedAt: 2025-11-11 16:05:31 -0500 (Tue, 11 Nov 2025) EllapsedTime: 45.6 seconds RetCode: 0 Status: OK