Package: RareVariantVis Version: 2.38.0 Command: /home/biocbuild/bbs-3.22-bioc/R/bin/R CMD build --keep-empty-dirs --no-resave-data --md5 RareVariantVis StartedAt: 2025-11-11 19:36:48 -0500 (Tue, 11 Nov 2025) EndedAt: 2025-11-11 19:37:34 -0500 (Tue, 11 Nov 2025) EllapsedTime: 46.0 seconds RetCode: 0 Status: OK PackageFile: RareVariantVis_2.38.0.tar.gz PackageFileSize: 2.757 MiB