Package: RareVariantVis Version: 2.36.0 Command: /home/biocbuild/bbs-3.21-bioc/R/bin/R CMD build --keep-empty-dirs --no-resave-data RareVariantVis StartedAt: 2025-10-15 19:21:11 -0400 (Wed, 15 Oct 2025) EndedAt: 2025-10-15 19:21:59 -0400 (Wed, 15 Oct 2025) EllapsedTime: 48.0 seconds RetCode: 0 Status: OK PackageFile: RareVariantVis_2.36.0.tar.gz PackageFileSize: 2.756 MiB