Package: RareVariantVis Version: 2.38.0 Command: /Library/Frameworks/R.framework/Resources/bin/R CMD INSTALL RareVariantVis StartedAt: 2025-11-20 17:35:13 -0500 (Thu, 20 Nov 2025) EndedAt: 2025-11-20 17:36:47 -0500 (Thu, 20 Nov 2025) EllapsedTime: 94.7 seconds RetCode: 0 Status: OK