Package: RareVariantVis Version: 2.38.0 Command: /Library/Frameworks/R.framework/Resources/bin/R CMD build --keep-empty-dirs --no-resave-data RareVariantVis StartedAt: 2025-11-20 22:55:26 -0500 (Thu, 20 Nov 2025) EndedAt: 2025-11-20 22:57:10 -0500 (Thu, 20 Nov 2025) EllapsedTime: 104.1 seconds RetCode: 0 Status: OK PackageFile: RareVariantVis_2.38.0.tar.gz PackageFileSize: 2.755 MiB