Package: RareVariantVis Version: 2.38.0 Command: rm -rf RareVariantVis.buildbin-libdir && mkdir RareVariantVis.buildbin-libdir && /Users/biocbuild/BBS/utils/build-universal.sh RareVariantVis_2.38.0.tar.gz /Library/Frameworks/R.framework/Resources/bin/R RareVariantVis.buildbin-libdir StartedAt: 2025-11-25 15:02:41 -0500 (Tue, 25 Nov 2025) EndedAt: 2025-11-25 15:04:20 -0500 (Tue, 25 Nov 2025) EllapsedTime: 99.1 seconds RetCode: 0 Status: OK PackageFile: RareVariantVis_2.38.0.tgz PackageFileSize: 2.732 MiB