Package: RareVariantVis Version: 2.36.0 Command: /Library/Frameworks/R.framework/Resources/bin/R CMD INSTALL RareVariantVis StartedAt: 2025-10-13 18:33:19 -0400 (Mon, 13 Oct 2025) EndedAt: 2025-10-13 18:34:15 -0400 (Mon, 13 Oct 2025) EllapsedTime: 56.1 seconds RetCode: 0 Status: OK