Package: RareVariantVis Version: 2.36.0 Command: /Library/Frameworks/R.framework/Resources/bin/R CMD build --keep-empty-dirs --no-resave-data RareVariantVis StartedAt: 2025-10-14 07:20:58 -0400 (Tue, 14 Oct 2025) EndedAt: 2025-10-14 07:22:08 -0400 (Tue, 14 Oct 2025) EllapsedTime: 70.3 seconds RetCode: 0 Status: OK PackageFile: RareVariantVis_2.36.0.tar.gz PackageFileSize: 2.756 MiB