Package: RareVariantVis Version: 2.36.0 Command: rm -rf RareVariantVis.buildbin-libdir && mkdir RareVariantVis.buildbin-libdir && /Users/biocbuild/BBS/utils/build-universal.sh RareVariantVis_2.36.0.tar.gz /Library/Frameworks/R.framework/Resources/bin/R RareVariantVis.buildbin-libdir StartedAt: 2025-10-15 19:57:59 -0400 (Wed, 15 Oct 2025) EndedAt: 2025-10-15 19:59:00 -0400 (Wed, 15 Oct 2025) EllapsedTime: 61.4 seconds RetCode: 0 Status: OK PackageFile: RareVariantVis_2.36.0.tgz PackageFileSize: 2.732 MiB