Package: RareVariantVis Version: 2.36.0 Maintainer: Tomasz Stokowy MaintainerEmail: tomasz.stokowy at k2.uib.no git_url: https://git.bioconductor.org/packages/RareVariantVis git_branch: RELEASE_3_21 git_last_commit: c016332 git_last_commit_date: 2025-04-15 10:51:27 -0400 (Tue, 15 Apr 2025)