Package: RankProd Version: 3.36.0 Command: /home/biocbuild/R/R/bin/R CMD INSTALL RankProd StartedAt: 2025-11-13 21:05:31 -0000 (Thu, 13 Nov 2025) EndedAt: 2025-11-13 21:06:11 -0000 (Thu, 13 Nov 2025) EllapsedTime: 39.5 seconds RetCode: 0 Status: OK