Package: RankProd Version: 3.36.0 Command: /home/biocbuild/bbs-3.22-bioc/R/bin/R CMD check --install=check:RankProd.install-out.txt --library=/home/biocbuild/bbs-3.22-bioc/R/site-library --timings RankProd_3.36.0.tar.gz StartedAt: 2025-11-12 03:09:28 -0500 (Wed, 12 Nov 2025) EndedAt: 2025-11-12 03:10:13 -0500 (Wed, 12 Nov 2025) EllapsedTime: 44.1 seconds RetCode: 0 Status: OK CheckDir: RankProd.Rcheck Warnings: 0