Package: RankProd Version: 3.36.0 Command: /home/biocbuild/bbs-3.22-bioc/R/bin/R CMD build --keep-empty-dirs --no-resave-data --md5 RankProd StartedAt: 2025-11-11 19:36:45 -0500 (Tue, 11 Nov 2025) EndedAt: 2025-11-11 19:36:58 -0500 (Tue, 11 Nov 2025) EllapsedTime: 13.0 seconds RetCode: 0 Status: OK PackageFile: RankProd_3.36.0.tar.gz PackageFileSize: 777.9 KiB