Package: RankProd Version: 3.34.0 Command: /home/biocbuild/bbs-3.21-bioc/R/bin/R CMD INSTALL RankProd StartedAt: 2025-10-08 15:04:26 -0400 (Wed, 08 Oct 2025) EndedAt: 2025-10-08 15:04:45 -0400 (Wed, 08 Oct 2025) EllapsedTime: 19.8 seconds RetCode: 0 Status: OK