Package: RankProd Version: 3.34.0 Command: /Library/Frameworks/R.framework/Resources/bin/R CMD INSTALL RankProd StartedAt: 2025-10-06 15:12:28 -0400 (Mon, 06 Oct 2025) EndedAt: 2025-10-06 15:12:37 -0400 (Mon, 06 Oct 2025) EllapsedTime: 8.4 seconds RetCode: 0 Status: OK