Package: RankProd Version: 3.34.0 Command: /Library/Frameworks/R.framework/Resources/bin/R CMD build --keep-empty-dirs --no-resave-data RankProd StartedAt: 2025-10-07 07:38:20 -0400 (Tue, 07 Oct 2025) EndedAt: 2025-10-07 07:38:42 -0400 (Tue, 07 Oct 2025) EllapsedTime: 21.5 seconds RetCode: 0 Status: OK PackageFile: RankProd_3.34.0.tar.gz PackageFileSize: 776.9 KiB