Package: RankProd Version: 3.34.0 Command: rm -rf RankProd.buildbin-libdir && mkdir RankProd.buildbin-libdir && /Users/biocbuild/BBS/utils/build-universal.sh RankProd_3.34.0.tar.gz /Library/Frameworks/R.framework/Resources/bin/R RankProd.buildbin-libdir StartedAt: 2025-10-08 22:28:19 -0400 (Wed, 08 Oct 2025) EndedAt: 2025-10-08 22:28:27 -0400 (Wed, 08 Oct 2025) EllapsedTime: 8.1 seconds RetCode: 0 Status: OK PackageFile: RankProd_3.34.0.tgz PackageFileSize: 876.6 KiB