Package: RaggedExperiment Version: 1.34.0 Command: /home/biocbuild/bbs-3.22-bioc/R/bin/R CMD INSTALL RaggedExperiment StartedAt: 2025-11-11 15:21:59 -0500 (Tue, 11 Nov 2025) EndedAt: 2025-11-11 15:22:20 -0500 (Tue, 11 Nov 2025) EllapsedTime: 21.2 seconds RetCode: 0 Status: OK