Package: RaggedExperiment Version: 1.34.0 Command: /home/biocbuild/bbs-3.22-bioc/R/bin/R CMD check --install=check:RaggedExperiment.install-out.txt --library=/home/biocbuild/bbs-3.22-bioc/R/site-library --timings RaggedExperiment_1.34.0.tar.gz StartedAt: 2025-11-15 03:21:55 -0500 (Sat, 15 Nov 2025) EndedAt: 2025-11-15 03:25:03 -0500 (Sat, 15 Nov 2025) EllapsedTime: 188.2 seconds RetCode: 0 Status: OK CheckDir: RaggedExperiment.Rcheck Warnings: 0