Package: RaggedExperiment Version: 1.34.0 Command: /home/biocbuild/bbs-3.22-bioc/R/bin/R CMD build --keep-empty-dirs --no-resave-data --md5 RaggedExperiment StartedAt: 2025-11-11 19:36:04 -0500 (Tue, 11 Nov 2025) EndedAt: 2025-11-11 19:36:38 -0500 (Tue, 11 Nov 2025) EllapsedTime: 34.0 seconds RetCode: 0 Status: OK PackageFile: RaggedExperiment_1.34.0.tar.gz PackageFileSize: 671.1 KiB