Package: RaggedExperiment Version: 1.34.0 Command: /Library/Frameworks/R.framework/Resources/bin/R CMD INSTALL RaggedExperiment StartedAt: 2025-11-03 15:24:01 -0500 (Mon, 03 Nov 2025) EndedAt: 2025-11-03 15:24:32 -0500 (Mon, 03 Nov 2025) EllapsedTime: 31.1 seconds RetCode: 0 Status: OK