Package: RadioGx Version: 2.14.0 Command: /home/biocbuild/bbs-3.22-bioc/R/bin/R CMD build --keep-empty-dirs --no-resave-data --md5 RadioGx StartedAt: 2025-11-11 19:35:26 -0500 (Tue, 11 Nov 2025) EndedAt: 2025-11-11 19:36:18 -0500 (Tue, 11 Nov 2025) EllapsedTime: 52.0 seconds RetCode: 0 Status: OK PackageFile: RadioGx_2.14.0.tar.gz PackageFileSize: 2.767 MiB