Package: RUVnormalize Version: 1.44.0 Command: /home/biocbuild/bbs-3.22-bioc/R/bin/R CMD check --install=check:RUVnormalize.install-out.txt --library=/home/biocbuild/bbs-3.22-bioc/R/site-library --timings RUVnormalize_1.44.0.tar.gz StartedAt: 2025-11-12 03:38:00 -0500 (Wed, 12 Nov 2025) EndedAt: 2025-11-12 03:38:41 -0500 (Wed, 12 Nov 2025) EllapsedTime: 41.0 seconds RetCode: 0 Status: OK CheckDir: RUVnormalize.Rcheck Warnings: 0